BEGIN:VCALENDAR
VERSION:2.0
PRODID:-//Plone.org//NONSGML plone.app.event//EN
X-WR-TIMEZONE:Europe/Vienna
BEGIN:VEVENT
SUMMARY:ÖWAV - Kurs "Das ABC des Abfallrechts"
DTSTART;TZID=Europe/Vienna;VALUE=DATE-TIME:20260121T090000
DTEND;TZID=Europe/Vienna;VALUE=DATE-TIME:20260121T163000
DTSTAMP;VALUE=DATE-TIME:20260420T044449Z
UID:7027d1dbd6304a9dbd338ca3a8fefb8d@www.nhp.eu
CATEGORIES:Top,Seminare NHP,Seminare ÖWAV NHP,Seminare ÖWAV,Seminar Abfa
 llrecht,ABC des Abfallrechts
CONTACT:https://www.oewav.at/Kurse-Seminare?current=393946&mode=form
CREATED;VALUE=DATE-TIME:20220721T094431Z
DESCRIPTION:für Einsteiger:innen und zur Auffrischung
LAST-MODIFIED;VALUE=DATE-TIME:20251205T103749Z
LOCATION:Online
URL:https://www.nhp.eu/de/wissenschaft/seminare/copy10_of_oewav-24-kurs-da
 s-abc-des-abfallrechts
END:VEVENT
BEGIN:VTIMEZONE
TZID:Europe/Vienna
X-LIC-LOCATION:Europe/Vienna
BEGIN:STANDARD
DTSTART;VALUE=DATE-TIME:20251026T020000
TZNAME:CET
TZOFFSETFROM:+0200
TZOFFSETTO:+0100
END:STANDARD
END:VTIMEZONE
END:VCALENDAR
