BEGIN:VCALENDAR
VERSION:2.0
PRODID:-//Plone.org//NONSGML plone.app.event//EN
X-WR-TIMEZONE:Europe/Vienna
BEGIN:VEVENT
SUMMARY:ÖWAV - Kurs "Das ABC des Wasserrechts"
DTSTART;TZID=Europe/Vienna;VALUE=DATE-TIME:20260506T084500
DTEND;TZID=Europe/Vienna;VALUE=DATE-TIME:20260506T170000
DTSTAMP;VALUE=DATE-TIME:20260422T175838Z
UID:768f69abc8f9438c82845ef79bfe23b9@www.nhp.eu
CATEGORIES:Top,ABC des Wasserrechts,ÖWAV NHP Seminar,ÖWAV NHP Kurse,Semi
 nar Wasserrecht,Kurs Wasserrecht
CONTACT:https://www.oewav.at/Kurse-Seminare?current=289636&mode=form
CREATED;VALUE=DATE-TIME:20220706T095857Z
DESCRIPTION:Wasserrecht für Planer:innen und Techniker:innen
LAST-MODIFIED;VALUE=DATE-TIME:20260422T122833Z
LOCATION:Hotel Schillerpark Linz\, Rainerstraße 2-4\, 4020 Linz
URL:https://www.nhp.eu/de/wissenschaft/seminare/copy10_of_oewav-26-kurs-da
 s-abc-des-wasserrechts
END:VEVENT
BEGIN:VTIMEZONE
TZID:Europe/Vienna
X-LIC-LOCATION:Europe/Vienna
BEGIN:DAYLIGHT
DTSTART;VALUE=DATE-TIME:20260329T030000
TZNAME:CEST
TZOFFSETFROM:+0100
TZOFFSETTO:+0200
END:DAYLIGHT
END:VTIMEZONE
END:VCALENDAR
