BEGIN:VCALENDAR
VERSION:2.0
PRODID:-//Plone.org//NONSGML plone.app.event//EN
X-WR-TIMEZONE:Europe/Vienna
BEGIN:VEVENT
SUMMARY:ÖWAV - Kurs "Das ABC des Abfallrechts"
DTSTART;TZID=Europe/Vienna;VALUE=DATE-TIME:20260622T090000
DTEND;TZID=Europe/Vienna;VALUE=DATE-TIME:20260622T171500
DTSTAMP;VALUE=DATE-TIME:20260422T175843Z
UID:83e71f776bf6439986d8ec4398a514e2@www.nhp.eu
CATEGORIES:Top,Seminare NHP,Seminare ÖWAV NHP,Seminare ÖWAV,Seminar Abfa
 llrecht,ABC des Abfallrechts
CONTACT:https://www.oewav.at/Kurse-Seminare?current=289639&mode=form
CREATED;VALUE=DATE-TIME:20220721T094431Z
DESCRIPTION:für Einsteiger:innen und zur Auffrischung
LAST-MODIFIED;VALUE=DATE-TIME:20260422T124923Z
LOCATION:Mezzanin Meeting & Events by Hotel Zeitgeist Vienna\, Sonnwendgas
 se 15\, 1100 Wien
URL:https://www.nhp.eu/de/wissenschaft/seminare/copy11_of_oewav-24-kurs-da
 s-abc-des-abfallrechts
END:VEVENT
BEGIN:VTIMEZONE
TZID:Europe/Vienna
X-LIC-LOCATION:Europe/Vienna
BEGIN:DAYLIGHT
DTSTART;VALUE=DATE-TIME:20260329T030000
TZNAME:CEST
TZOFFSETFROM:+0100
TZOFFSETTO:+0200
END:DAYLIGHT
END:VTIMEZONE
END:VCALENDAR
