BEGIN:VCALENDAR
VERSION:2.0
PRODID:-//Plone.org//NONSGML plone.app.event//EN
X-WR-TIMEZONE:Europe/Vienna
BEGIN:VEVENT
SUMMARY:ÖWAV - Kurs "Das ABC des Abfallrechts"
DTSTART;TZID=Europe/Vienna;VALUE=DATE-TIME:20261006T090000
DTEND;TZID=Europe/Vienna;VALUE=DATE-TIME:20261006T171500
DTSTAMP;VALUE=DATE-TIME:20260422T194449Z
UID:f3a29098fb8545d6b4cae0ad9d4c907f@www.nhp.eu
CATEGORIES:Top,Seminare NHP,Seminare ÖWAV NHP,Seminare ÖWAV,Seminar Abfa
 llrecht,ABC des Abfallrechts
CONTACT:https://www.oewav.at/Kurse-Seminare?current=289639&mode=form
CREATED;VALUE=DATE-TIME:20220721T094431Z
DESCRIPTION:für Einsteiger:innen und zur Auffrischung
LAST-MODIFIED;VALUE=DATE-TIME:20260422T142301Z
LOCATION:Hotel Schillerpark Linz\, Rainerstraße 2-4\, 4020 Linz
URL:https://www.nhp.eu/de/wissenschaft/seminare/copy12_of_oewav-24-kurs-da
 s-abc-des-abfallrechts
END:VEVENT
BEGIN:VTIMEZONE
TZID:Europe/Vienna
X-LIC-LOCATION:Europe/Vienna
BEGIN:DAYLIGHT
DTSTART;VALUE=DATE-TIME:20260329T030000
TZNAME:CEST
TZOFFSETFROM:+0100
TZOFFSETTO:+0200
END:DAYLIGHT
END:VTIMEZONE
END:VCALENDAR
