BEGIN:VCALENDAR
VERSION:2.0
PRODID:-//Plone.org//NONSGML plone.app.event//EN
X-WR-TIMEZONE:Europe/Vienna
BEGIN:VEVENT
SUMMARY:imh - "Spezialtag ElWG"
DTSTART;TZID=Europe/Vienna;VALUE=DATE-TIME:20260128T090000
DTEND;TZID=Europe/Vienna;VALUE=DATE-TIME:20260128T161500
DTSTAMP;VALUE=DATE-TIME:20260420T044819Z
UID:a704de1c1b4d4a21bad579fba9e322de@www.nhp.eu
CATEGORIES:Top,Seminar imh NHP,Seminar imh,Seminar NHP,Semnar nhp,Seminar 
 ElWG
CONTACT:https://www.imh.at/veranstaltungen/seminar/spezialtag-elwg-umsetzu
 ng
CREATED;VALUE=DATE-TIME:20220427T133034Z
DESCRIPTION:Zwischen Regulierung und Realität
LAST-MODIFIED;VALUE=DATE-TIME:20251205T120939Z
LOCATION:Hotel Indigo\, Rechte Wienzeile 87\, 1050 Wien
URL:https://www.nhp.eu/de/wissenschaft/seminare/copy17_of_imh-spezialtag-n
 achhaltigkeitsrecht-1
END:VEVENT
BEGIN:VTIMEZONE
TZID:Europe/Vienna
X-LIC-LOCATION:Europe/Vienna
BEGIN:STANDARD
DTSTART;VALUE=DATE-TIME:20251026T020000
TZNAME:CET
TZOFFSETFROM:+0200
TZOFFSETTO:+0100
END:STANDARD
END:VTIMEZONE
END:VCALENDAR
