BEGIN:VCALENDAR
VERSION:2.0
PRODID:-//Plone.org//NONSGML plone.app.event//EN
X-WR-TIMEZONE:Europe/Vienna
BEGIN:VEVENT
SUMMARY:imh - "Spezialtag EABG"
DTSTART;TZID=Europe/Vienna;VALUE=DATE-TIME:20260311T090000
DTEND;TZID=Europe/Vienna;VALUE=DATE-TIME:20260311T160000
DTSTAMP;VALUE=DATE-TIME:20260420T044812Z
UID:3cf945efd2d94bb6896612271ece69a0@www.nhp.eu
CATEGORIES:Top,Seminar imh NHP,Seminar imh,Seminar NHP,Semnar nhp,Seminar 
 EABG
CONTACT:https://www.imh.at/veranstaltungen/seminar/spezialtag-eabg
CREATED;VALUE=DATE-TIME:20220427T133034Z
DESCRIPTION:Konkrete Ausgestaltung | Umsetzung in der Praxis | Neue Heraus
 forderungen | Schnittstellen zum ElWG
LAST-MODIFIED;VALUE=DATE-TIME:20251205T122340Z
LOCATION:Hotel Indigo\, Rechte Wienzeile 87\, 1050 Wien
URL:https://www.nhp.eu/de/wissenschaft/seminare/copy18_of_imh-spezialtag-n
 achhaltigkeitsrecht-1
END:VEVENT
BEGIN:VTIMEZONE
TZID:Europe/Vienna
X-LIC-LOCATION:Europe/Vienna
BEGIN:STANDARD
DTSTART;VALUE=DATE-TIME:20251026T020000
TZNAME:CET
TZOFFSETFROM:+0200
TZOFFSETTO:+0100
END:STANDARD
END:VTIMEZONE
END:VCALENDAR
