BEGIN:VCALENDAR
VERSION:2.0
PRODID:-//Plone.org//NONSGML plone.app.event//EN
X-WR-TIMEZONE:Europe/Vienna
BEGIN:VEVENT
SUMMARY:ÖWAV - "Abfallrecht für die Praxis"
DTSTART;TZID=Europe/Vienna;VALUE=DATE-TIME:20251204T093000
DTEND;TZID=Europe/Vienna;VALUE=DATE-TIME:20251204T164000
DTSTAMP;VALUE=DATE-TIME:20260421T194339Z
UID:856dbd8cb9d54dc697c2529fa3111421@www.nhp.eu
CATEGORIES:Top,Abfallrecht für die Praxis,Seminar ÖWAV NHP,Seminar Abfal
 lrecht,Seminar Abfallrecht NHP,Seminar Abfallrecht ÖWAV
CONTACT:https://www.oewav.at/Kurse-Seminare?current=550969&mode=form
CREATED;VALUE=DATE-TIME:20221010T133153Z
LAST-MODIFIED;VALUE=DATE-TIME:20251201T151127Z
LOCATION:DoubleTree by Hilton Vienna\, Schönbrunn Schlossallee 8\, 1140 W
 ien
URL:https://www.nhp.eu/de/wissenschaft/seminare/copy3_of_oewav-abfallrecht
 -fuer-die-praxis-5
END:VEVENT
BEGIN:VTIMEZONE
TZID:Europe/Vienna
X-LIC-LOCATION:Europe/Vienna
BEGIN:STANDARD
DTSTART;VALUE=DATE-TIME:20251026T020000
TZNAME:CET
TZOFFSETFROM:+0200
TZOFFSETTO:+0100
END:STANDARD
END:VTIMEZONE
END:VCALENDAR
