BEGIN:VCALENDAR
VERSION:2.0
PRODID:-//Plone.org//NONSGML plone.app.event//EN
X-WR-TIMEZONE:Europe/Vienna
BEGIN:VEVENT
SUMMARY:ÖWAV - "ERFA Deponie 2026"
DTSTART;TZID=Europe/Vienna;VALUE=DATE-TIME:20260625T103000
DTSTAMP;VALUE=DATE-TIME:20260422T193048Z
UID:35d3fd575de546ce8dcd8091cd579b69@www.nhp.eu
CATEGORIES:Top,Seminar ERFA Deponie,Seminar ÖWAV,Seminar NHP,Seminar Depo
 nie,Seminar ERFA
CONTACT:https://www.oewav.at/Kurse-Seminare?current=579042&mode=form
CREATED;VALUE=DATE-TIME:20220427T142555Z
DESCRIPTION:Aktuelle rechtliche Neuerungen und Auswirkungen auf die Praxis
LAST-MODIFIED;VALUE=DATE-TIME:20260422T142750Z
LOCATION:DoubleTree by Hilton Vienna\, Schönbrunn Schlossallee 8\, 1140 W
 ien
URL:https://www.nhp.eu/de/wissenschaft/seminare/copy3_of_oewav-erfa-deponi
 e-2022
END:VEVENT
BEGIN:VTIMEZONE
TZID:Europe/Vienna
X-LIC-LOCATION:Europe/Vienna
BEGIN:DAYLIGHT
DTSTART;VALUE=DATE-TIME:20260329T030000
TZNAME:CEST
TZOFFSETFROM:+0100
TZOFFSETTO:+0200
END:DAYLIGHT
END:VTIMEZONE
END:VCALENDAR
