BEGIN:VCALENDAR
VERSION:2.0
PRODID:-//Plone.org//NONSGML plone.app.event//EN
X-WR-TIMEZONE:Europe/Vienna
BEGIN:VEVENT
SUMMARY:ÖWAV-Kurs "Das ABC des Haftungsrechts"
DTSTART;TZID=Europe/Vienna;VALUE=DATE-TIME:20260415T084500
DTEND;TZID=Europe/Vienna;VALUE=DATE-TIME:20260415T170000
DTSTAMP;VALUE=DATE-TIME:20260420T044613Z
UID:a25706d3e0304f27a4d83ca3809bef19@www.nhp.eu
CATEGORIES:Top,seminar haftung,seminar haftungsrecht,seminar nhp,nhp öwav
 ,nhp haftung,nhp seminar haftungsrecht
CONTACT:https://www.oewav.at/Kurse-Seminare?current=516468&mode=form
CREATED;VALUE=DATE-TIME:20241031T113504Z
LAST-MODIFIED;VALUE=DATE-TIME:20251205T121626Z
LOCATION:Austria Trend Hotel Europa Graz\, Bahnhofgürtel 89\, 8020 Graz
URL:https://www.nhp.eu/de/wissenschaft/seminare/copy3_of_oewav-kurs-das-ab
 c-des-haftungsrechts
END:VEVENT
BEGIN:VTIMEZONE
TZID:Europe/Vienna
X-LIC-LOCATION:Europe/Vienna
BEGIN:DAYLIGHT
DTSTART;VALUE=DATE-TIME:20260329T030000
TZNAME:CEST
TZOFFSETFROM:+0100
TZOFFSETTO:+0200
END:DAYLIGHT
END:VTIMEZONE
END:VCALENDAR
