BEGIN:VCALENDAR
VERSION:2.0
PRODID:-//Plone.org//NONSGML plone.app.event//EN
X-WR-TIMEZONE:Europe/Vienna
BEGIN:VEVENT
SUMMARY:ÖWAV - 5. Österreichischer Klimarechtstag
DTSTART;TZID=Europe/Vienna;VALUE=DATE-TIME:20260526T100000
DTEND;TZID=Europe/Vienna;VALUE=DATE-TIME:20260526T170000
DTSTAMP;VALUE=DATE-TIME:20260422T175846Z
UID:c8f0b01c325247c6ab952e220bbeb184@www.nhp.eu
CATEGORIES:Top,Seminar NHP ÖWAV,nhp seminar,seminar klimarecht,öwav semi
 nar,österreichischer klimarechtstag,klimarechtstag
CONTACT:https://www.oewav.at/Kurse-Seminare?current=577713&mode=form
CREATED;VALUE=DATE-TIME:20220126T073455Z
LAST-MODIFIED;VALUE=DATE-TIME:20260422T124021Z
LOCATION:Ilse Wallentin Haus\, SR 29\, Peter-Jordan-Straße 82\, 1190 Wien
URL:https://www.nhp.eu/de/wissenschaft/seminare/copy4_of_oewav-1-oesterrei
 chischer-klimarechtstag
END:VEVENT
BEGIN:VTIMEZONE
TZID:Europe/Vienna
X-LIC-LOCATION:Europe/Vienna
BEGIN:DAYLIGHT
DTSTART;VALUE=DATE-TIME:20260329T030000
TZNAME:CEST
TZOFFSETFROM:+0100
TZOFFSETTO:+0200
END:DAYLIGHT
END:VTIMEZONE
END:VCALENDAR
