BEGIN:VCALENDAR
VERSION:2.0
PRODID:-//Plone.org//NONSGML plone.app.event//EN
X-WR-TIMEZONE:Europe/Vienna
BEGIN:VEVENT
SUMMARY:ÖWAV Grundkurs "Umgang mit Abfällen auf Baustellen"
DTSTART;TZID=Europe/Vienna;VALUE=DATE-TIME:20260505T090000
DTEND;TZID=Europe/Vienna;VALUE=DATE-TIME:20260506T171500
DTSTAMP;VALUE=DATE-TIME:20260422T175851Z
UID:03a26786598e43d5bcaf63c19fce373c@www.nhp.eu
CATEGORIES:Top,Seminar Abfälle,Seminar Abfallwirtschaft,Seminar ÖWAV,Sem
 inar NHP,Seminar Baustellen
CONTACT:https://www.oewav.at/Kurse-Seminare?current=384245&mode=form
CREATED;VALUE=DATE-TIME:20140818T131428Z
LAST-MODIFIED;VALUE=DATE-TIME:20260422T122415Z
LOCATION:Mezzanin Meeting & Events by Hotel Zeitgeist Vienna\, Sonnwendgas
 se 15\, 1100 Wien
URL:https://www.nhp.eu/de/wissenschaft/seminare/copy4_of_oewav-grundkurs-u
 mgang-mit-abfaellen-auf-baustellen-3
END:VEVENT
BEGIN:VTIMEZONE
TZID:Europe/Vienna
X-LIC-LOCATION:Europe/Vienna
BEGIN:DAYLIGHT
DTSTART;VALUE=DATE-TIME:20260329T030000
TZNAME:CEST
TZOFFSETFROM:+0100
TZOFFSETTO:+0200
END:DAYLIGHT
END:VTIMEZONE
END:VCALENDAR
