BEGIN:VCALENDAR
VERSION:2.0
PRODID:-//Plone.org//NONSGML plone.app.event//EN
X-WR-TIMEZONE:Europe/Vienna
BEGIN:VEVENT
SUMMARY:ÖWAV-Kurs "Das ABC des Haftungsrechts"
DTSTART;TZID=Europe/Vienna;VALUE=DATE-TIME:20261123T084500
DTEND;TZID=Europe/Vienna;VALUE=DATE-TIME:20261123T170000
DTSTAMP;VALUE=DATE-TIME:20260420T044618Z
UID:a052249ea09e402cb2a5a56871cb3b6b@www.nhp.eu
CATEGORIES:Top,seminar haftung,seminar haftungsrecht,seminar nhp,nhp öwav
 ,nhp haftung,nhp seminar haftungsrecht
CONTACT:https://www.oewav.at/Kurse-Seminare?current=516468&mode=form
CREATED;VALUE=DATE-TIME:20241031T113504Z
LAST-MODIFIED;VALUE=DATE-TIME:20251205T121803Z
LOCATION:Gesellschaft für Wasser- und Abfallwirtschaft GmbH\, Seminarraum
  1\, Marc-Aurel-Straße 5/1\, 1010 Wien
URL:https://www.nhp.eu/de/wissenschaft/seminare/copy4_of_oewav-kurs-das-ab
 c-des-haftungsrechts
END:VEVENT
BEGIN:VTIMEZONE
TZID:Europe/Vienna
X-LIC-LOCATION:Europe/Vienna
BEGIN:STANDARD
DTSTART;VALUE=DATE-TIME:20261025T020000
TZNAME:CET
TZOFFSETFROM:+0200
TZOFFSETTO:+0100
END:STANDARD
END:VTIMEZONE
END:VCALENDAR
