BEGIN:VCALENDAR
VERSION:2.0
PRODID:-//Plone.org//NONSGML plone.app.event//EN
X-WR-TIMEZONE:Europe/Vienna
BEGIN:VEVENT
SUMMARY:ÖWAV - Ausbildungskurs "Recycling-Baustoffe und Auswertung von Au
 shub"
DTSTART;TZID=Europe/Vienna;VALUE=DATE-TIME:20260519T090000
DTEND;TZID=Europe/Vienna;VALUE=DATE-TIME:20260520T164500
DTSTAMP;VALUE=DATE-TIME:20260422T175858Z
UID:62df294a2c61491f84e37518e1446db0@www.nhp.eu
CATEGORIES:Top,Seminar NHP ÖWAV,Seminar ÖWAV,Seminar NHP,Seminar Aushubv
 erwertung,Seminar Verwertung von Aushub,Seminar Recycling-Baustoffe,Semina
 r Recycling
CONTACT:https://www.oewav.at/Kurse-Seminare?current=421585&mode=form
CREATED;VALUE=DATE-TIME:20221115T161600Z
LAST-MODIFIED;VALUE=DATE-TIME:20260422T123358Z
LOCATION:Mezzanin Meeting & Events by Hotel Zeitgeist Vienna\, Sonnwendgas
 se 15\, 1100 Wien
URL:https://www.nhp.eu/de/wissenschaft/seminare/copy7_of_oewav-ausbildungs
 kurs-recycling-baustoffe-und-auswertung-von-aushub
END:VEVENT
BEGIN:VTIMEZONE
TZID:Europe/Vienna
X-LIC-LOCATION:Europe/Vienna
BEGIN:DAYLIGHT
DTSTART;VALUE=DATE-TIME:20260329T030000
TZNAME:CEST
TZOFFSETFROM:+0100
TZOFFSETTO:+0200
END:DAYLIGHT
END:VTIMEZONE
END:VCALENDAR
