BEGIN:VCALENDAR
VERSION:2.0
PRODID:-//Plone.org//NONSGML plone.app.event//EN
X-WR-TIMEZONE:Europe/Vienna
BEGIN:VEVENT
SUMMARY:ÖWAV - Kurs "Das ABC des Wasserrechts"
DTSTART;TZID=Europe/Vienna;VALUE=DATE-TIME:20260128T084500
DTEND;TZID=Europe/Vienna;VALUE=DATE-TIME:20260128T170000
DTSTAMP;VALUE=DATE-TIME:20260420T044646Z
UID:a780dee0abfd40849ca7d2d3c30c4b65@www.nhp.eu
CATEGORIES:Top,ABC des Wasserrechts,ÖWAV NHP Seminar,ÖWAV NHP Kurse,Semi
 nar Wasserrecht,Kurs Wasserrecht
CONTACT:https://www.oewav.at/Kurse-Seminare?current=406301&mode=form
CREATED;VALUE=DATE-TIME:20220706T095857Z
DESCRIPTION:Wasserrecht für Planer:innen und Techniker:innen
LAST-MODIFIED;VALUE=DATE-TIME:20251205T120511Z
LOCATION:Online
URL:https://www.nhp.eu/de/wissenschaft/seminare/copy9_of_oewav-26-kurs-das
 -abc-des-wasserrechts
END:VEVENT
BEGIN:VTIMEZONE
TZID:Europe/Vienna
X-LIC-LOCATION:Europe/Vienna
BEGIN:STANDARD
DTSTART;VALUE=DATE-TIME:20251026T020000
TZNAME:CET
TZOFFSETFROM:+0200
TZOFFSETTO:+0100
END:STANDARD
END:VTIMEZONE
END:VCALENDAR
