BEGIN:VCALENDAR
VERSION:2.0
PRODID:-//Plone.org//NONSGML plone.app.event//EN
X-WR-TIMEZONE:Europe/Vienna
BEGIN:VEVENT
SUMMARY:Gutwinski - "Ausbildung zum:zur Abfallbeauftragten"
DTSTART;TZID=Europe/Vienna;VALUE=DATE-TIME:20221107T090000
DTEND;TZID=Europe/Vienna;VALUE=DATE-TIME:20221110T170000
DTSTAMP;VALUE=DATE-TIME:20260425T165119Z
UID:066e803181d2434cadf99c238ea6dba1@www.nhp.eu
CATEGORIES:Top,Seminar Gutwinski,Seminar NHP,Seminar Abfallrecht,Ausbildun
 g Abfallbeauftragter
CONTACT:https://www.gutwinski.at/veranstaltung/ausbildung-abfallbeauftragt
 e/
CREATED;VALUE=DATE-TIME:20220713T144536Z
LAST-MODIFIED;VALUE=DATE-TIME:20251014T090515Z
LOCATION:Gutwinski Management GmbH\, Lohnsteinstraße 42\, 2380 Perchtolds
 dorf und Online
URL:https://www.nhp.eu/de/wissenschaft/seminare/copy_of_gutwinski-ausbildu
 ng-zum-zur-abfallbeauftragten
END:VEVENT
BEGIN:VTIMEZONE
TZID:Europe/Vienna
X-LIC-LOCATION:Europe/Vienna
BEGIN:STANDARD
DTSTART;VALUE=DATE-TIME:20221030T020000
TZNAME:CET
TZOFFSETFROM:+0200
TZOFFSETTO:+0100
END:STANDARD
END:VTIMEZONE
END:VCALENDAR
