BEGIN:VCALENDAR
VERSION:2.0
PRODID:-//Plone.org//NONSGML plone.app.event//EN
X-WR-TIMEZONE:Europe/Vienna
BEGIN:VEVENT
SUMMARY:ÖWAV Grundkurs "Umgang mit Abfällen auf Baustellen"
DTSTART;TZID=Europe/Vienna;VALUE=DATE-TIME:20241104T090000
DTEND;TZID=Europe/Vienna;VALUE=DATE-TIME:20241105T171500
DTSTAMP;VALUE=DATE-TIME:20260421T150308Z
UID:b6edf93288c445ccb837fb95a27a8210@www.nhp.eu
CATEGORIES:Top,Seminar Abfälle,Seminar Abfallwirtschaft,Seminar ÖWAV,Sem
 inar NHP,Seminar Baustellen
CONTACT:https://www.oewav.at/Kurse-Seminare?current=384245&mode=form
CREATED;VALUE=DATE-TIME:20140818T131428Z
LAST-MODIFIED;VALUE=DATE-TIME:20251014T090524Z
LOCATION:Hotel Best Western Plus Amedia Wien\, Landstraßer Hauptstraße 1
 53-155\, 1030 Wien
URL:https://www.nhp.eu/de/wissenschaft/seminare/copy_of_oewav-grundkurs-um
 gang-mit-abfaellen-auf-baustellen-3
END:VEVENT
BEGIN:VTIMEZONE
TZID:Europe/Vienna
X-LIC-LOCATION:Europe/Vienna
BEGIN:STANDARD
DTSTART;VALUE=DATE-TIME:20241027T020000
TZNAME:CET
TZOFFSETFROM:+0200
TZOFFSETTO:+0100
END:STANDARD
END:VTIMEZONE
END:VCALENDAR
