BEGIN:VCALENDAR
VERSION:2.0
PRODID:-//Plone.org//NONSGML plone.app.event//EN
X-WR-TIMEZONE:Europe/Vienna
BEGIN:VEVENT
SUMMARY:ÖWAV - "UPDATE Abfallverbringung"
DTSTART;TZID=Europe/Vienna;VALUE=DATE-TIME:20260429T110000
DTEND;TZID=Europe/Vienna;VALUE=DATE-TIME:20260429T123000
DTSTAMP;VALUE=DATE-TIME:20260422T175902Z
UID:46d1dbbe89b44daab02c15c61c58b9ea@www.nhp.eu
CATEGORIES:Top,Abfallverbringung,Seminar Abfallverbringung
CONTACT:https://www.oewav.at/Kurse-Seminare?current=586703&mode=form
CREATED;VALUE=DATE-TIME:20230126T115231Z
DESCRIPTION:Aktuelle Entwicklungen und Ausblick
LAST-MODIFIED;VALUE=DATE-TIME:20260422T121206Z
LOCATION:Online
URL:https://www.nhp.eu/de/wissenschaft/seminare/copy_of_oewav-update-abfal
 lverbringung
END:VEVENT
BEGIN:VTIMEZONE
TZID:Europe/Vienna
X-LIC-LOCATION:Europe/Vienna
BEGIN:DAYLIGHT
DTSTART;VALUE=DATE-TIME:20260329T030000
TZNAME:CEST
TZOFFSETFROM:+0100
TZOFFSETTO:+0200
END:DAYLIGHT
END:VTIMEZONE
END:VCALENDAR
