BEGIN:VCALENDAR
VERSION:2.0
PRODID:-//Plone.org//NONSGML plone.app.event//EN
X-WR-TIMEZONE:Europe/Vienna
BEGIN:VEVENT
SUMMARY:Energierechtliche Gespräche
DTSTART;TZID=Europe/Vienna;VALUE=DATE-TIME:20201020T173000
DTEND;TZID=Europe/Vienna;VALUE=DATE-TIME:20201020T193000
DTSTAMP;VALUE=DATE-TIME:20260421T132153Z
UID:1c1a23d74d5d425385c1086aece34650@www.nhp.eu
CATEGORIES:Top
CONTACT:https://www.nhp.eu/de/news/news-aktuell/2020/energierechtliche-ges
 praeche-webinar-zu-aktuellen-themen-des-energierechts
CREATED;VALUE=DATE-TIME:20201016T103939Z
DESCRIPTION:Erneuerbaren-Ausbau-Gesetz - Energiewende
LAST-MODIFIED;VALUE=DATE-TIME:20201016T105144Z
LOCATION:Webinar
URL:https://www.nhp.eu/de/wissenschaft/seminare/energierechtliche-gespraec
 he
END:VEVENT
BEGIN:VTIMEZONE
TZID:Europe/Vienna
X-LIC-LOCATION:Europe/Vienna
BEGIN:DAYLIGHT
DTSTART;VALUE=DATE-TIME:20200329T030000
TZNAME:CEST
TZOFFSETFROM:+0100
TZOFFSETTO:+0200
END:DAYLIGHT
END:VTIMEZONE
END:VCALENDAR
