BEGIN:VCALENDAR
VERSION:2.0
PRODID:-//Plone.org//NONSGML plone.app.event//EN
X-WR-TIMEZONE:Europe/Vienna
BEGIN:VEVENT
SUMMARY:ERFAHRUNG / AUSTAUSCH
DTSTART;TZID=Europe/Vienna;VALUE=DATE-TIME:20190509T160000
DTSTAMP;VALUE=DATE-TIME:20260421T194920Z
UID:152d5dafaf97411bbe44e34368961858@www.nhp.eu
CATEGORIES:Top
CONTACT:ivana.bernatovic@nhp.eu\, https://www.nhp.eu/de/news/news-aktuell/
 2019/erfahrungs-austausch
CREATED;VALUE=DATE-TIME:20190326T152746Z
LAST-MODIFIED;VALUE=DATE-TIME:20190328T073151Z
LOCATION:Reisnerstraße 53\, 1030 Wien
URL:https://www.nhp.eu/de/wissenschaft/seminare/erfahrung-austausch
END:VEVENT
BEGIN:VTIMEZONE
TZID:Europe/Vienna
X-LIC-LOCATION:Europe/Vienna
BEGIN:DAYLIGHT
DTSTART;VALUE=DATE-TIME:20190331T030000
TZNAME:CEST
TZOFFSETFROM:+0100
TZOFFSETTO:+0200
END:DAYLIGHT
END:VTIMEZONE
END:VCALENDAR
