BEGIN:VCALENDAR
VERSION:2.0
PRODID:-//Plone.org//NONSGML plone.app.event//EN
X-WR-TIMEZONE:Europe/Vienna
BEGIN:VEVENT
SUMMARY:imh - "Energielieferverträge: Contracting & PPA"
DTSTART;TZID=Europe/Vienna;VALUE=DATE-TIME:20221206T090000
DTEND;TZID=Europe/Vienna;VALUE=DATE-TIME:20221207T160000
DTSTAMP;VALUE=DATE-TIME:20260420T044435Z
UID:5629ed460eeb4e9d899ef789c9873968@www.nhp.eu
CATEGORIES:Top,imh Seminar,Seminar NHP,Seminar imh NHP,Seminar imh nhp,Sem
 inar Contracting,Seminar Energielieferverträge
CONTACT:https://www.imh.at/veranstaltungen/seminar/energieliefervertraege-
 contracting-ppa
CREATED;VALUE=DATE-TIME:20221115T162614Z
LAST-MODIFIED;VALUE=DATE-TIME:20221115T162851Z
URL:https://www.nhp.eu/de/wissenschaft/seminare/imh-energieliefervertraege
 -contracting-ppa
END:VEVENT
BEGIN:VTIMEZONE
TZID:Europe/Vienna
X-LIC-LOCATION:Europe/Vienna
BEGIN:STANDARD
DTSTART;VALUE=DATE-TIME:20221030T020000
TZNAME:CET
TZOFFSETFROM:+0200
TZOFFSETTO:+0100
END:STANDARD
END:VTIMEZONE
END:VCALENDAR
