BEGIN:VCALENDAR
VERSION:2.0
PRODID:-//Plone.org//NONSGML plone.app.event//EN
X-WR-TIMEZONE:Europe/Vienna
BEGIN:VEVENT
SUMMARY:ÖGLA Akademie "Produktionsintegrierte Kompensation (PiK) - Die L
 ösung für Naturschutz und Landwirtschaft?"
DTSTART;TZID=Europe/Vienna;VALUE=DATE-TIME:20191017T094500
DTEND;TZID=Europe/Vienna;VALUE=DATE-TIME:20191017T173000
DTSTAMP;VALUE=DATE-TIME:20260422T233135Z
UID:08dc09d112914f43a6ebc9e10ed27c28@www.nhp.eu
CONTACT:http://oegla.at/aktuell/200-vorankuendigung-pik-tagung-17-18-okt-2
 019
CREATED;VALUE=DATE-TIME:20190930T092335Z
DESCRIPTION:Rechtliche Anforderung\, 14:15-15:45
LAST-MODIFIED;VALUE=DATE-TIME:20190930T092426Z
LOCATION:REVITAL Integrative Naturraumplanung GmbH\, Nußdorf 71\, 9990 Nu
 ßdorf-Debant
URL:https://www.nhp.eu/de/wissenschaft/seminare/oegla-akademie-produktions
 integrierte-kompensation-pik-die-loesung-fuer-naturschutz-und-landwirtscha
 ft
END:VEVENT
BEGIN:VTIMEZONE
TZID:Europe/Vienna
X-LIC-LOCATION:Europe/Vienna
BEGIN:DAYLIGHT
DTSTART;VALUE=DATE-TIME:20190331T030000
TZNAME:CEST
TZOFFSETFROM:+0100
TZOFFSETTO:+0200
END:DAYLIGHT
END:VTIMEZONE
END:VCALENDAR
