BEGIN:VCALENDAR
VERSION:2.0
PRODID:-//Plone.org//NONSGML plone.app.event//EN
X-WR-TIMEZONE:Europe/Vienna
BEGIN:VEVENT
SUMMARY:ÖWAV "25. Österreichische Umweltrechtstage"
DTSTART;TZID=Europe/Vienna;VALUE=DATE-TIME:20210922T160000
DTEND;TZID=Europe/Vienna;VALUE=DATE-TIME:20210923T170000
DTSTAMP;VALUE=DATE-TIME:20260420T044928Z
UID:cc0027707cc34866bf290e5206f2d119@www.nhp.eu
CATEGORIES:top,URT,25. Umweltrechtstage,umweltrechtstage 2021,NHP,seminare
  öwav
CONTACT:https://www.oewav.at/Kurse-Seminare?current=420718&mode=form
CREATED;VALUE=DATE-TIME:20210907T150536Z
LAST-MODIFIED;VALUE=DATE-TIME:20210907T151251Z
LOCATION:JKU Linz - Uni Center\, Altenberger Straße 69\, 4040 Linz
URL:https://www.nhp.eu/de/wissenschaft/seminare/oewav-25-oesterreichische-
 umweltrechtstage-klimaschutz-im-recht
END:VEVENT
BEGIN:VTIMEZONE
TZID:Europe/Vienna
X-LIC-LOCATION:Europe/Vienna
BEGIN:DAYLIGHT
DTSTART;VALUE=DATE-TIME:20210328T030000
TZNAME:CEST
TZOFFSETFROM:+0100
TZOFFSETTO:+0200
END:DAYLIGHT
END:VTIMEZONE
END:VCALENDAR
