BEGIN:VCALENDAR
VERSION:2.0
PRODID:-//Plone.org//NONSGML plone.app.event//EN
X-WR-TIMEZONE:Europe/Vienna
BEGIN:VEVENT
SUMMARY:ÖWAV - 9. Fortbildungskurs Abfallwirtschaft
DTSTART;TZID=Europe/Vienna;VALUE=DATE-TIME:20220912T084500
DTEND;TZID=Europe/Vienna;VALUE=DATE-TIME:20220912T174000
DTSTAMP;VALUE=DATE-TIME:20260421T132118Z
UID:738cd54ff94d4e2e92bab30483f6f788@www.nhp.eu
CATEGORIES:Top,Abfallwirtschaft,NHP Seminar,NHP ÖWAV Seminar
CONTACT:https://www.oewav.at/Kurse-Seminare?current=311776&mode=form
CREATED;VALUE=DATE-TIME:20220602T104341Z
LAST-MODIFIED;VALUE=DATE-TIME:20220908T103236Z
LOCATION:ROOMZ Hotel Wien Prater\, Rothschildplatz 2\, 1020 Wien
URL:https://www.nhp.eu/de/wissenschaft/seminare/oewav-9-fortbildungskurs-a
 bfallwirtschaft
END:VEVENT
BEGIN:VTIMEZONE
TZID:Europe/Vienna
X-LIC-LOCATION:Europe/Vienna
BEGIN:DAYLIGHT
DTSTART;VALUE=DATE-TIME:20220327T030000
TZNAME:CEST
TZOFFSETFROM:+0100
TZOFFSETTO:+0200
END:DAYLIGHT
END:VTIMEZONE
END:VCALENDAR
