BEGIN:VCALENDAR
VERSION:2.0
PRODID:-//Plone.org//NONSGML plone.app.event//EN
X-WR-TIMEZONE:Europe/Vienna
BEGIN:VEVENT
SUMMARY:ÖWAV - Ausbildungskurs "Recycling-Baustoffe und Auswertung von Au
 shub"
DTSTART;TZID=Europe/Vienna;VALUE=DATE-TIME:20221122T090000
DTEND;TZID=Europe/Vienna;VALUE=DATE-TIME:20221123T170000
DTSTAMP;VALUE=DATE-TIME:20260421T132340Z
UID:0c51a169fd3745f0be7ac002a9635fee@www.nhp.eu
CATEGORIES:Top,Seminar NHP ÖWAV,Seminar ÖWAV,Seminar NHP,Seminar Aushubv
 erwertung,Seminar Verwertung von Aushub,Seminar Recycling-Baustoffe,Semina
 r Recycling
CONTACT:https://www.oewav.at/Kurse-Seminare?current=421585&mode=form
CREATED;VALUE=DATE-TIME:20221115T161600Z
LAST-MODIFIED;VALUE=DATE-TIME:20221115T161851Z
LOCATION:Budget Design Hotel rooMZ Vienna Prater\, Rothschildplatz 2\, 102
 0 Wien
URL:https://www.nhp.eu/de/wissenschaft/seminare/oewav-ausbildungskurs-recy
 cling-baustoffe-und-auswertung-von-aushub
END:VEVENT
BEGIN:VTIMEZONE
TZID:Europe/Vienna
X-LIC-LOCATION:Europe/Vienna
BEGIN:STANDARD
DTSTART;VALUE=DATE-TIME:20221030T020000
TZNAME:CET
TZOFFSETFROM:+0200
TZOFFSETTO:+0100
END:STANDARD
END:VTIMEZONE
END:VCALENDAR
