BEGIN:VCALENDAR
VERSION:2.0
PRODID:-//Plone.org//NONSGML plone.app.event//EN
X-WR-TIMEZONE:Europe/Vienna
BEGIN:VEVENT
SUMMARY:ÖWAV Seminar "Abfallrecht für die Praxis"
DTSTART;TZID=CET;VALUE=DATE-TIME:20161123T080000
DTEND;TZID=CET;VALUE=DATE-TIME:20161123T170000
DTSTAMP;VALUE=DATE-TIME:20260421T130507Z
UID:5758ffaa4f4e416e80f0932fe2053e4c@www.nhp.eu
CREATED;VALUE=DATE-TIME:20150611T063823Z
LAST-MODIFIED;VALUE=DATE-TIME:20171005T222249Z
LOCATION:Wien
URL:https://www.nhp.eu/de/wissenschaft/seminare/oewav-seminar-abfallrecht-
 fuer-die-praxis-1
END:VEVENT
BEGIN:VTIMEZONE
TZID:CET
X-LIC-LOCATION:CET
BEGIN:STANDARD
DTSTART;VALUE=DATE-TIME:20161030T020000
TZNAME:CET
TZOFFSETFROM:+0200
TZOFFSETTO:+0100
END:STANDARD
END:VTIMEZONE
END:VCALENDAR
