BEGIN:VCALENDAR
VERSION:2.0
PRODID:-//Plone.org//NONSGML plone.app.event//EN
X-WR-TIMEZONE:Europe/Vienna
BEGIN:VEVENT
SUMMARY:ÖWAV Skigebietserweiterungen im Spannungsfeld von Alpenkonvention
 en
DTSTART;TZID=CET;VALUE=DATE-TIME:20141029T093000
DTEND;TZID=CET;VALUE=DATE-TIME:20141029T164000
DTSTAMP;VALUE=DATE-TIME:20260421T132118Z
UID:13c6266227224fef90d33779a36c0c52@www.nhp.eu
CREATED;VALUE=DATE-TIME:20140814T093717Z
DESCRIPTION:Dr. Peter Sander\, Ablauf eines UVP-Genehmigungsverfahrens\; \
 nMag. Paul Reichel - Die Alpenkonvention – Was regelt sie wirklich?\; 
LAST-MODIFIED;VALUE=DATE-TIME:20171005T224013Z
LOCATION:WIFI Salzburg | Julius-Raab-Platz 2\, 5027 Salzburg
URL:https://www.nhp.eu/de/wissenschaft/seminare/oewav-skigebietserweiterun
 gen-im-spannungsfeld-von-alpenkonventionen-naturschutz-und-uvp-recht
END:VEVENT
BEGIN:VTIMEZONE
TZID:CET
X-LIC-LOCATION:CET
BEGIN:STANDARD
DTSTART;VALUE=DATE-TIME:20141026T020000
TZNAME:CET
TZOFFSETFROM:+0200
TZOFFSETTO:+0100
END:STANDARD
END:VTIMEZONE
END:VCALENDAR
