BEGIN:VCALENDAR
VERSION:2.0
PRODID:-//Plone.org//NONSGML plone.app.event//EN
X-WR-TIMEZONE:Europe/Vienna
BEGIN:VEVENT
SUMMARY:Seminar: Wunderwuzzi Abfallsammler?
DTSTART;TZID=CET;VALUE=DATE-TIME:20140325T140000
DTEND;TZID=CET;VALUE=DATE-TIME:20140325T173000
DTSTAMP;VALUE=DATE-TIME:20260421T132314Z
UID:61d839ba46b94e2e9a342f4c5e18618d@www.nhp.eu
CREATED;VALUE=DATE-TIME:20140120T143858Z
DESCRIPTION:Aktuelle Judikatur und Trends in der Abfallwirtschaft
LAST-MODIFIED;VALUE=DATE-TIME:20171005T224016Z
LOCATION:WIFI Linz
URL:https://www.nhp.eu/de/wissenschaft/seminare/seminar-wunderwuzzi-abfall
 sammler
END:VEVENT
BEGIN:VTIMEZONE
TZID:CET
X-LIC-LOCATION:CET
BEGIN:STANDARD
DTSTART;VALUE=DATE-TIME:20131027T020000
TZNAME:CET
TZOFFSETFROM:+0200
TZOFFSETTO:+0100
END:STANDARD
END:VTIMEZONE
END:VCALENDAR
