BEGIN:VCALENDAR
VERSION:2.0
PRODID:-//Plone.org//NONSGML plone.app.event//EN
X-WR-TIMEZONE:Europe/Vienna
BEGIN:VEVENT
SUMMARY:TÜV Austria Akademie Seminar "Ausbildung zum/r zertifizierten Abf
 allbeauftragten nach §11 AWG 2002" 
DTSTART;TZID=CET;VALUE=DATE-TIME:20160628T083000
DTEND;TZID=CET;VALUE=DATE-TIME:20160628T173000
DTSTAMP;VALUE=DATE-TIME:20260421T130206Z
UID:6ec0b790094745898298f5ee4afd69af@www.nhp.eu
CREATED;VALUE=DATE-TIME:20160601T080026Z
DESCRIPTION:Mag. Paul Reichl spricht über die rechtlichen Grundlagen des 
 Abfallwirtschaftsrechts\, den Abfallbegriff\, Abfallverwertung\, der Abfal
 lbeauftragte und seine Pflichten\, der Abfallbesitzer/-sammler/-behandler 
 und seine Pflichten\, Abfallbehandlungsanlagen\, Abfallverbringung sowie B
 ehandlungsaufträge.
LAST-MODIFIED;VALUE=DATE-TIME:20171005T224041Z
LOCATION:Hotel Paradies\, Straßganger Straße 380 B\, 8054 Graz
URL:https://www.nhp.eu/de/wissenschaft/seminare/tuev-austria-akademie-semi
 nar-ausbildung-zum-r-zertifizierten-abfallbeauftragten-nach-11-awg-2002
END:VEVENT
BEGIN:VTIMEZONE
TZID:CET
X-LIC-LOCATION:CET
BEGIN:DAYLIGHT
DTSTART;VALUE=DATE-TIME:20160327T030000
TZNAME:CEST
TZOFFSETFROM:+0100
TZOFFSETTO:+0200
END:DAYLIGHT
END:VTIMEZONE
END:VCALENDAR
