BEGIN:VCALENDAR
VERSION:2.0
PRODID:-//Plone.org//NONSGML plone.app.event//EN
X-WR-TIMEZONE:Europe/Vienna
BEGIN:VEVENT
SUMMARY:WKO Steiermark "Wirtschafts- und umweltrechtliche Gespräche: Klim
 a- und Energiestrategien auf Bundes- und Landesebene"
DTSTART;TZID=Europe/Vienna;VALUE=DATE-TIME:20181107T183000
DTEND;TZID=Europe/Vienna;VALUE=DATE-TIME:20181107T200000
DTSTAMP;VALUE=DATE-TIME:20260420T080045Z
UID:e31535636bd54003ba8ac69e6c0d8319@www.nhp.eu
CREATED;VALUE=DATE-TIME:20181017T083607Z
LAST-MODIFIED;VALUE=DATE-TIME:20181017T083730Z
LOCATION:Rechtswissenschaftliche Fakultät - Karl-Franzens Universität Gr
 az\, Bauteil A\, 2. Stock\, Sitzungszimmer 15.21\, Universitätsstraße 15
 \, 8010 Graz
URL:https://www.nhp.eu/de/wissenschaft/seminare/wko-steiermark-wirtschafts
 -und-umweltrechtliche-gespraeche-klima-und-energiestrategien-auf-bundes-un
 d-landesebene
END:VEVENT
BEGIN:VTIMEZONE
TZID:Europe/Vienna
X-LIC-LOCATION:Europe/Vienna
BEGIN:STANDARD
DTSTART;VALUE=DATE-TIME:20181028T020000
TZNAME:CET
TZOFFSETFROM:+0200
TZOFFSETTO:+0100
END:STANDARD
END:VTIMEZONE
END:VCALENDAR
